BEGIN:VCALENDAR
VERSION:2.0
PRODID:-//Commune de Vezins - ECPv4.9.10//NONSGML v1.0//EN
CALSCALE:GREGORIAN
METHOD:PUBLISH
X-WR-CALNAME:Commune de Vezins
X-ORIGINAL-URL:https://www.mairie-de-vezins.com
X-WR-CALDESC:Évènements pour Commune de Vezins
BEGIN:VTIMEZONE
TZID:Europe/Paris
BEGIN:DAYLIGHT
TZOFFSETFROM:+0100
TZOFFSETTO:+0200
TZNAME:CEST
DTSTART:20250330T010000
END:DAYLIGHT
BEGIN:STANDARD
TZOFFSETFROM:+0200
TZOFFSETTO:+0100
TZNAME:CET
DTSTART:20251026T010000
END:STANDARD
END:VTIMEZONE
BEGIN:VEVENT
DTSTART;VALUE=DATE:20251012
DTEND;VALUE=DATE:20251013
DTSTAMP:20260421T173036
CREATED:20250916T071704Z
LAST-MODIFIED:20250916T071704Z
UID:142412-1760227200-1760313599@www.mairie-de-vezins.com
SUMMARY:20 ans bibliothèque Marque-Pages
DESCRIPTION:
URL:https://www.mairie-de-vezins.com/evenement/20-ans-bibliotheque-marque-pages/
LOCATION:Bibliothèque Marque-Pages\, 4 rue des Écoles\, Vezins\, Maine-et-Loire\, 49340\, France
CATEGORIES:Événements associatifs
ATTACH;FMTTYPE=image/png:https://www.mairie-de-vezins.com/wp-content/uploads/2025/09/bibliotheque.png
ORGANIZER;CN="Biblioth%C3%A8que%20Marque-Pages":MAILTO:bib_vezins@choletagglomeration.fr
END:VEVENT
END:VCALENDAR