BEGIN:VCALENDAR
VERSION:2.0
PRODID:-//Commune de Vezins - ECPv4.9.10//NONSGML v1.0//EN
CALSCALE:GREGORIAN
METHOD:PUBLISH
X-WR-CALNAME:Commune de Vezins
X-ORIGINAL-URL:https://www.mairie-de-vezins.com
X-WR-CALDESC:Évènements pour Commune de Vezins
BEGIN:VTIMEZONE
TZID:Europe/Paris
BEGIN:DAYLIGHT
TZOFFSETFROM:+0100
TZOFFSETTO:+0200
TZNAME:CEST
DTSTART:20220327T010000
END:DAYLIGHT
BEGIN:STANDARD
TZOFFSETFROM:+0200
TZOFFSETTO:+0100
TZNAME:CET
DTSTART:20221030T010000
END:STANDARD
END:VTIMEZONE
BEGIN:VEVENT
DTSTART;TZID=Europe/Paris:20220506T140000
DTEND;TZID=Europe/Paris:20220506T170000
DTSTAMP:20260421T132107
CREATED:20220310T100115Z
LAST-MODIFIED:20220310T101341Z
UID:134697-1651845600-1651856400@www.mairie-de-vezins.com
SUMMARY:AdC - Opération broyage de vos branchages
DESCRIPTION:\nL’Agglomération du Choletais renouvelle son opération de broyage de branchages et déchets verts pour les particuliers ! \n\n \n \n\nObjectifs : limiter les apports en déchèterie et valoriser ce type de déchets dans les jardins.\n\n \n \nLe broyage des déchets issus de la taille des haies\, des arbustes et des arbres\, produit un excellent amendement pour la terre\, notamment en paillage pour les massifs et espaces verts\, mais aussi en matière sèche pour les composteurs.  \n \nPour ce service\, l’Agglomération du Choletais met à dispositions deux broyeurs\, dont le fonctionnement est assuré par les filières d’insertion Fil d’Ariane et l’Eclaircie.  \n \n\nCette campagne de broyage « printemps 2022 »\, aura lieu du 19 mars au 13 mai\, sur les communes de l’Agglomération du Choletais.\n\n \n \n\nÀ Vezins\, l’opération se déroulera le vendredi 6 mai\, de 14h à 17h\, sur le parking de la MCL.\n\n \n \n\nService gratuit\, inscription obligatoire. Réservez votre créneau !\n\n \n \n\nPour plus d’infos et s’inscrire : www.cholet.fr\n\n \n \n\nCrédit article : Synergences hebdo \n
URL:https://www.mairie-de-vezins.com/evenement/adc-operation-broyage-de-vos-branchages/
LOCATION:Maison Commune de Loisirs de Vezins (MCL)\, 14 rue du Parc\, Vezins\, Maine-et-Loire\, 49340\, France
CATEGORIES:Événements Cholet Agglomération
ATTACH;FMTTYPE=image/png:https://www.mairie-de-vezins.com/wp-content/uploads/2022/03/Opération-broyage-de-vos-branchages-du-19-mars-au-13-mai-2022-1.png
ORGANIZER;CN="Service%20Gestion%20des%20D%C3%A9chets%20de%20l%27AdC":MAILTO:contactdechets@choletagglomeration.fr
END:VEVENT
END:VCALENDAR