BEGIN:VCALENDAR
VERSION:2.0
PRODID:-//Commune de Vezins - ECPv4.9.10//NONSGML v1.0//EN
CALSCALE:GREGORIAN
METHOD:PUBLISH
X-WR-CALNAME:Commune de Vezins
X-ORIGINAL-URL:https://www.mairie-de-vezins.com
X-WR-CALDESC:Évènements pour Commune de Vezins
BEGIN:VTIMEZONE
TZID:Europe/Paris
BEGIN:DAYLIGHT
TZOFFSETFROM:+0100
TZOFFSETTO:+0200
TZNAME:CEST
DTSTART:20240331T010000
END:DAYLIGHT
BEGIN:STANDARD
TZOFFSETFROM:+0200
TZOFFSETTO:+0100
TZNAME:CET
DTSTART:20241027T010000
END:STANDARD
END:VTIMEZONE
BEGIN:VEVENT
DTSTART;TZID=Europe/Paris:20240202T190000
DTEND;TZID=Europe/Paris:20240202T220000
DTSTAMP:20260421T131301
CREATED:20240111T153152Z
LAST-MODIFIED:20240111T153152Z
UID:140274-1706900400-1706911200@www.mairie-de-vezins.com
SUMMARY:APC - Tournoi de Tac-Tik
DESCRIPTION:
URL:https://www.mairie-de-vezins.com/evenement/apc-tournoi-de-tac-tik/
LOCATION:Maison Commune de Loisirs de Vezins (MCL)\, 14 rue du Parc\, Vezins\, Maine-et-Loire\, 49340\, France
CATEGORIES:Événements des écoles
ATTACH;FMTTYPE=image/png:https://www.mairie-de-vezins.com/wp-content/uploads/2024/01/APEC-Tournoi-TAC-TIK-Vendredi-2-février-2024.png
ORGANIZER;CN="Association%20des%20Parents%20d%27%C3%A9l%C3%A8ves%20de%20l%27Ecole%20Communale%20%28APEC%29":MAILTO:apec.vezins@gmail.com
END:VEVENT
END:VCALENDAR