BEGIN:VCALENDAR
VERSION:2.0
PRODID:-//Commune de Vezins - ECPv4.9.10//NONSGML v1.0//EN
CALSCALE:GREGORIAN
METHOD:PUBLISH
X-WR-CALNAME:Commune de Vezins
X-ORIGINAL-URL:https://www.mairie-de-vezins.com
X-WR-CALDESC:Évènements pour Commune de Vezins
BEGIN:VTIMEZONE
TZID:Europe/Paris
BEGIN:DAYLIGHT
TZOFFSETFROM:+0100
TZOFFSETTO:+0200
TZNAME:CEST
DTSTART:20240331T010000
END:DAYLIGHT
BEGIN:STANDARD
TZOFFSETFROM:+0200
TZOFFSETTO:+0100
TZNAME:CET
DTSTART:20241027T010000
END:STANDARD
END:VTIMEZONE
BEGIN:VEVENT
DTSTART;TZID=Europe/Paris:20240216T200000
DTEND;TZID=Europe/Paris:20240216T220000
DTSTAMP:20260421T130842
CREATED:20240130T084718Z
LAST-MODIFIED:20240130T084718Z
UID:140351-1708113600-1708120800@www.mairie-de-vezins.com
SUMMARY:APEL - Concours de palets
DESCRIPTION:
URL:https://www.mairie-de-vezins.com/evenement/apel-concours-de-palets-3/
LOCATION:Maison Commune de Loisirs de Vezins (MCL)\, 14 rue du Parc\, Vezins\, Maine-et-Loire\, 49340\, France
CATEGORIES:Événements des écoles
ATTACH;FMTTYPE=image/jpeg:https://www.mairie-de-vezins.com/wp-content/uploads/2024/01/APEL-Concours-de-palets-Vendredi-16-février-2024-e1706604426253.jpg
ORGANIZER;CN="APEL%20%C3%A9cole%20St%20Joseph":MAILTO:apel.vezins.stjoseph@ec49.net
END:VEVENT
END:VCALENDAR