BEGIN:VCALENDAR
VERSION:2.0
PRODID:-//Commune de Vezins - ECPv4.9.10//NONSGML v1.0//EN
CALSCALE:GREGORIAN
METHOD:PUBLISH
X-WR-CALNAME:Commune de Vezins
X-ORIGINAL-URL:https://www.mairie-de-vezins.com
X-WR-CALDESC:Évènements pour Commune de Vezins
BEGIN:VTIMEZONE
TZID:Europe/Paris
BEGIN:DAYLIGHT
TZOFFSETFROM:+0100
TZOFFSETTO:+0200
TZNAME:CEST
DTSTART:20220327T010000
END:DAYLIGHT
BEGIN:STANDARD
TZOFFSETFROM:+0200
TZOFFSETTO:+0100
TZNAME:CET
DTSTART:20221030T010000
END:STANDARD
END:VTIMEZONE
BEGIN:VEVENT
DTSTART;TZID=Europe/Paris:20220311T200000
DTEND;TZID=Europe/Paris:20220311T230000
DTSTAMP:20260421T130801
CREATED:20220301T101111Z
LAST-MODIFIED:20220301T101637Z
UID:134596-1647028800-1647039600@www.mairie-de-vezins.com
SUMMARY:APEL - Concours de palets
DESCRIPTION:\n1\,2\,3 à vos palets ! \n\n \n \n\nL’APEL de l’école St Joseph de Vezins\, organise un concours de palets le vendredi 11 mars 2022.\n\n \n \n\nLe temps d’une soirée\, venez passer un bon moment dans une ambiance conviviale !\n\n \n \n\nPour s’inscrire\, contactez le : 06 08 22 59 93\n\n \n \n\nLes lots n’attendent plus que vous !\n\n \n \nToutes les infos :\n\n \nVendredi 11 mars 2022\n\n\nMaison Commune de Loisirs de Vezins – 14 rue du Parc à Vezins\n\n\nDébut du concours à 20 h\n\n\n14 € par équipe\n\n\nBuvette et restauration sur place\n\n \n \nCe même jour\, un concours est également proposé pour les enfants de l’école St Joseph et de l’école de l’Evre\, à partir de 17h30 avec 3 jeux pour affronter les copains !\n \n \n\n
URL:https://www.mairie-de-vezins.com/evenement/apel-concours-de-palets/
LOCATION:Maison Commune de Loisirs de Vezins (MCL)\, 14 rue du Parc\, Vezins\, Maine-et-Loire\, 49340\, France
CATEGORIES:Événements des écoles
ATTACH;FMTTYPE=image/jpeg:https://www.mairie-de-vezins.com/wp-content/uploads/2022/03/Concours-de-palets-APEL-Vendredi-11-mars-2022-e1646129500103.jpg
ORGANIZER;CN="%C3%89cole%20priv%C3%A9e%20Saint%20Joseph":MAILTO:vezins.stjoseph@ec49.info
END:VEVENT
END:VCALENDAR