BEGIN:VCALENDAR
VERSION:2.0
PRODID:-//Commune de Vezins - ECPv4.9.10//NONSGML v1.0//EN
CALSCALE:GREGORIAN
METHOD:PUBLISH
X-WR-CALNAME:Commune de Vezins
X-ORIGINAL-URL:https://www.mairie-de-vezins.com
X-WR-CALDESC:Évènements pour Commune de Vezins
BEGIN:VTIMEZONE
TZID:Europe/Paris
BEGIN:DAYLIGHT
TZOFFSETFROM:+0100
TZOFFSETTO:+0200
TZNAME:CEST
DTSTART:20240331T010000
END:DAYLIGHT
BEGIN:STANDARD
TZOFFSETFROM:+0200
TZOFFSETTO:+0100
TZNAME:CET
DTSTART:20241027T010000
END:STANDARD
END:VTIMEZONE
BEGIN:VEVENT
DTSTART;TZID=Europe/Paris:20240409T200000
DTEND;TZID=Europe/Paris:20240409T210000
DTSTAMP:20260421T131252
CREATED:20240404T125901Z
LAST-MODIFIED:20240404T125901Z
UID:140832-1712692800-1712696400@www.mairie-de-vezins.com
SUMMARY:Chloro'fil - Conférence Reveleo
DESCRIPTION:
URL:https://www.mairie-de-vezins.com/evenement/chlorofil-conference-reveleo/
LOCATION:Maison Commune de Loisirs de Vezins (MCL)\, 14 rue du Parc\, Vezins\, Maine-et-Loire\, 49340\, France
CATEGORIES:Événements associatifs
ATTACH;FMTTYPE=image/jpeg:https://www.mairie-de-vezins.com/wp-content/uploads/2024/04/apercus-site-activités-e1712235506764.jpg
ORGANIZER;CN="Centre%20Socioculturel%20Intercommunal%20Chloro%27fil":MAILTO:accueil@csichlorofil.fr
END:VEVENT
END:VCALENDAR