BEGIN:VCALENDAR
VERSION:2.0
PRODID:-//Commune de Vezins - ECPv4.9.10//NONSGML v1.0//EN
CALSCALE:GREGORIAN
METHOD:PUBLISH
X-WR-CALNAME:Commune de Vezins
X-ORIGINAL-URL:https://www.mairie-de-vezins.com
X-WR-CALDESC:Évènements pour Commune de Vezins
BEGIN:VTIMEZONE
TZID:Europe/Paris
BEGIN:DAYLIGHT
TZOFFSETFROM:+0100
TZOFFSETTO:+0200
TZNAME:CEST
DTSTART:20240331T010000
END:DAYLIGHT
BEGIN:STANDARD
TZOFFSETFROM:+0200
TZOFFSETTO:+0100
TZNAME:CET
DTSTART:20241027T010000
END:STANDARD
END:VTIMEZONE
BEGIN:VEVENT
DTSTART;TZID=Europe/Paris:20240921T090000
DTEND;TZID=Europe/Paris:20240921T123000
DTSTAMP:20260421T201211
CREATED:20240809T144947Z
LAST-MODIFIED:20240809T144947Z
UID:141226-1726909200-1726921800@www.mairie-de-vezins.com
SUMMARY:Chloro'fil - Forum petite enfance
DESCRIPTION:
URL:https://www.mairie-de-vezins.com/evenement/chlorofil-forum-petite-enfance-2/
ATTACH;FMTTYPE=image/jpeg:https://www.mairie-de-vezins.com/wp-content/uploads/2024/08/Forum-PE-parentalité-2024-affiche.jpg
ORGANIZER;CN="Centre%20Socioculturel%20Intercommunal%20Chloro%27fil":MAILTO:accueil@csichlorofil.fr
END:VEVENT
END:VCALENDAR