BEGIN:VCALENDAR
VERSION:2.0
PRODID:-//Commune de Vezins - ECPv4.9.10//NONSGML v1.0//EN
CALSCALE:GREGORIAN
METHOD:PUBLISH
X-WR-CALNAME:Commune de Vezins
X-ORIGINAL-URL:https://www.mairie-de-vezins.com
X-WR-CALDESC:Évènements pour Commune de Vezins
BEGIN:VTIMEZONE
TZID:Europe/Paris
BEGIN:DAYLIGHT
TZOFFSETFROM:+0100
TZOFFSETTO:+0200
TZNAME:CEST
DTSTART:20230326T010000
END:DAYLIGHT
BEGIN:STANDARD
TZOFFSETFROM:+0200
TZOFFSETTO:+0100
TZNAME:CET
DTSTART:20231029T010000
END:STANDARD
END:VTIMEZONE
BEGIN:VEVENT
DTSTART;TZID=Europe/Paris:20230429T100000
DTEND;TZID=Europe/Paris:20230429T133000
DTSTAMP:20260421T143313
CREATED:20230222T095314Z
LAST-MODIFIED:20230222T095314Z
UID:137991-1682762400-1682775000@www.mairie-de-vezins.com
SUMMARY:Chloro'fil - Troc de plants
DESCRIPTION:
URL:https://www.mairie-de-vezins.com/evenement/chlorofil-troc-de-plants/
LOCATION:CSI Chloro’fil\, 40 bis rue de la Libération\, Nuaillé\, 49340\, France
CATEGORIES:Événements associatifs
ATTACH;FMTTYPE=image/png:https://www.mairie-de-vezins.com/wp-content/uploads/2023/02/Chlorofil-Troc-de-plants-Samedi-29-avril-2023-e1677059575921.png
ORGANIZER;CN="Centre%20Socioculturel%20Intercommunal%20Chloro%27fil":MAILTO:accueil@csichlorofil.fr
END:VEVENT
END:VCALENDAR