BEGIN:VCALENDAR
VERSION:2.0
PRODID:-//Commune de Vezins - ECPv4.9.10//NONSGML v1.0//EN
CALSCALE:GREGORIAN
METHOD:PUBLISH
X-WR-CALNAME:Commune de Vezins
X-ORIGINAL-URL:https://www.mairie-de-vezins.com
X-WR-CALDESC:Évènements pour Commune de Vezins
BEGIN:VTIMEZONE
TZID:Europe/Paris
BEGIN:DAYLIGHT
TZOFFSETFROM:+0100
TZOFFSETTO:+0200
TZNAME:CEST
DTSTART:20240331T010000
END:DAYLIGHT
BEGIN:STANDARD
TZOFFSETFROM:+0200
TZOFFSETTO:+0100
TZNAME:CET
DTSTART:20241027T010000
END:STANDARD
END:VTIMEZONE
BEGIN:VEVENT
DTSTART;TZID=Europe/Paris:20241103T143000
DTEND;TZID=Europe/Paris:20241103T183000
DTSTAMP:20260421T132107
CREATED:20241021T095804Z
LAST-MODIFIED:20241021T095804Z
UID:141431-1730644200-1730658600@www.mairie-de-vezins.com
SUMMARY:Club de l'Espérance - Bal
DESCRIPTION:
URL:https://www.mairie-de-vezins.com/evenement/club-de-lesperance-bal-6/
LOCATION:Maison Commune de Loisirs de Vezins (MCL)\, 14 rue du Parc\, Vezins\, Maine-et-Loire\, 49340\, France
CATEGORIES:Événements associatifs
ATTACH;FMTTYPE=image/png:https://www.mairie-de-vezins.com/wp-content/uploads/2024/10/Club-de-lEspérance-Bal-Dimanche-3-novembre-2024-1-e1729504667968.png
ORGANIZER;CN="Club%20de%20l%27Esp%C3%A9rance":MAILTO:clubesperance2022@outlook.fr
END:VEVENT
END:VCALENDAR