BEGIN:VCALENDAR
VERSION:2.0
PRODID:-//Commune de Vezins - ECPv4.9.10//NONSGML v1.0//EN
CALSCALE:GREGORIAN
METHOD:PUBLISH
X-WR-CALNAME:Commune de Vezins
X-ORIGINAL-URL:https://www.mairie-de-vezins.com
X-WR-CALDESC:Évènements pour Commune de Vezins
BEGIN:VTIMEZONE
TZID:Europe/Paris
BEGIN:DAYLIGHT
TZOFFSETFROM:+0100
TZOFFSETTO:+0200
TZNAME:CEST
DTSTART:20200329T010000
END:DAYLIGHT
BEGIN:STANDARD
TZOFFSETFROM:+0200
TZOFFSETTO:+0100
TZNAME:CET
DTSTART:20201025T010000
END:STANDARD
END:VTIMEZONE
BEGIN:VEVENT
DTSTART;TZID=Europe/Paris:20200215T190000
DTEND;TZID=Europe/Paris:20200215T230000
DTSTAMP:20260421T131113
CREATED:20191219T110914Z
LAST-MODIFIED:20191219T111156Z
UID:122998-1581793200-1581807600@www.mairie-de-vezins.com
SUMMARY:Comité des Fêtes - Soirée Saint Valentin
DESCRIPTION:Suite au succès de la première édition\,  le Comité des Fêtes de Vezins réitère sa soirée  » Saint Valentin  »  \n  \nLe samedi 15 février 2020 à la MCL de Vezins. \nDîner dansant à partir de 19 h 00. \n  \nRéservations : \n\nle 18 janvier 2020 de 10 h à 13 h à la Maison des Associations. \nPar message privé sur la Page Facebook du Comité des Fêtes.\nPar téléphone au : 06.81.60.63.01\n\n  \n
URL:https://www.mairie-de-vezins.com/evenement/comite-des-fetes-soiree-saint-valentin/
LOCATION:Maison Commune de Loisirs de Vezins (MCL)\, 14 rue du Parc\, Vezins\, Maine-et-Loire\, 49340\, France
CATEGORIES:Événements associatifs
ATTACH;FMTTYPE=image/jpeg:https://www.mairie-de-vezins.com/wp-content/uploads/2019/12/Comité-des-Fêtes-Soirée-St-Valentin-Samedi-15-février-2020-1-e1576753853415.jpg
ORGANIZER;CN="Comit%C3%A9%20des%20F%C3%AAtes":MAILTO:comitedesfetes.vezins49@orange.fr
END:VEVENT
END:VCALENDAR