BEGIN:VCALENDAR
VERSION:2.0
PRODID:-//Commune de Vezins - ECPv4.9.10//NONSGML v1.0//EN
CALSCALE:GREGORIAN
METHOD:PUBLISH
X-WR-CALNAME:Commune de Vezins
X-ORIGINAL-URL:https://www.mairie-de-vezins.com
X-WR-CALDESC:Évènements pour Commune de Vezins
BEGIN:VTIMEZONE
TZID:Europe/Paris
BEGIN:DAYLIGHT
TZOFFSETFROM:+0100
TZOFFSETTO:+0200
TZNAME:CEST
DTSTART:20220327T010000
END:DAYLIGHT
BEGIN:STANDARD
TZOFFSETFROM:+0200
TZOFFSETTO:+0100
TZNAME:CET
DTSTART:20221030T010000
END:STANDARD
END:VTIMEZONE
BEGIN:VEVENT
DTSTART;TZID=Europe/Paris:20220610T183000
DTEND;TZID=Europe/Paris:20220610T200000
DTSTAMP:20260421T130641
CREATED:20220530T130500Z
LAST-MODIFIED:20220530T130500Z
UID:135400-1654885800-1654891200@www.mairie-de-vezins.com
SUMMARY:École de l'Evre - Spectacle de cirque
DESCRIPTION:\nVente des places pour le spectacle de cirque de l’école de l’Evre\n\n \n \n \n\nDemain matin sur le temps du marché\, mercredi et vendredi de 17h30 à 19h\, il sera possible d’acheter des billets pour le spectacle des enfants qui aura lieu le vendredi 10 juin à 18h30 ! \n\n\n \n\n\n \nL’axe pédagogique de cette année scolaire était tourné sur les arts du spectacle vivant et s’inscrivait dans le parcours d’éducation artistique et culturelle des élèves.\n\n\n \n \nPour conclure ce projet\, un chapiteau sera installé à partir de lundi prochain sur le parking de la MCL\, pour que les élèves participent toute la semaine à cette classe découverte et présentent ensuite leur spectacle le vendredi !\n\n
URL:https://www.mairie-de-vezins.com/evenement/ecole-de-levre-spectacle-de-cirque/
LOCATION:Maison Commune de Loisirs de Vezins (MCL)\, 14 rue du Parc\, Vezins\, Maine-et-Loire\, 49340\, France
CATEGORIES:Événements des écoles
ATTACH;FMTTYPE=image/png:https://www.mairie-de-vezins.com/wp-content/uploads/2022/05/Vendredi-10-juin-Spectacle-école-publique-de-lEvre-1.png
ORGANIZER;CN="Association%20des%20Parents%20d%27%C3%A9l%C3%A8ves%20de%20l%27Ecole%20Communale%20%28APEC%29":MAILTO:apec.vezins@gmail.com
END:VEVENT
END:VCALENDAR