BEGIN:VCALENDAR
VERSION:2.0
PRODID:-//Commune de Vezins - ECPv4.9.10//NONSGML v1.0//EN
CALSCALE:GREGORIAN
METHOD:PUBLISH
X-WR-CALNAME:Commune de Vezins
X-ORIGINAL-URL:https://www.mairie-de-vezins.com
X-WR-CALDESC:Évènements pour Commune de Vezins
BEGIN:VTIMEZONE
TZID:Europe/Paris
BEGIN:DAYLIGHT
TZOFFSETFROM:+0100
TZOFFSETTO:+0200
TZNAME:CEST
DTSTART:20230326T010000
END:DAYLIGHT
BEGIN:STANDARD
TZOFFSETFROM:+0200
TZOFFSETTO:+0100
TZNAME:CET
DTSTART:20231029T010000
END:STANDARD
END:VTIMEZONE
BEGIN:VEVENT
DTSTART;TZID=Europe/Paris:20231209T193000
DTEND;TZID=Europe/Paris:20231209T233000
DTSTAMP:20260421T132056
CREATED:20231117T103048Z
LAST-MODIFIED:20231117T103153Z
UID:139965-1702150200-1702164600@www.mairie-de-vezins.com
SUMMARY:JUMELAGE SOIRÉE CHOUCROUTE
DESCRIPTION:\nCOMITÉ DE JUMELAGE\n\n \n \n\nUne bonne choucroute ça vous dit ? Le Jumelage de Vezins vous convie à une soirée sur ce thème le samedi 9 décembre ! Ambiance conviviale garantie !\n\n \n \n\nÀ partir de 19h30\n\n\nMaison Commune de Loisirs\n\n \n \n\nNombre de places limité ! Réservez dès maintenant votre place : lea.charlos03@gmail.com / 07 84 14 90 38\n\n
URL:https://www.mairie-de-vezins.com/evenement/jumelage-soiree-choucroute/
LOCATION:Maison Commune de Loisirs de Vezins (MCL)\, 14 rue du Parc\, Vezins\, Maine-et-Loire\, 49340\, France
CATEGORIES:Événements associatifs
ATTACH;FMTTYPE=image/png:https://www.mairie-de-vezins.com/wp-content/uploads/2023/11/Jumelage-Soirée-Choucroute-Samedi-9-décembre-2023-e1700217033630.png
ORGANIZER;CN="Jumelage%20Franco%2FBelge":MAILTO:jumelage.vezins@gmail.com
END:VEVENT
END:VCALENDAR