BEGIN:VCALENDAR
VERSION:2.0
PRODID:-//Commune de Vezins - ECPv4.9.10//NONSGML v1.0//EN
CALSCALE:GREGORIAN
METHOD:PUBLISH
X-WR-CALNAME:Commune de Vezins
X-ORIGINAL-URL:https://www.mairie-de-vezins.com
X-WR-CALDESC:Évènements pour Commune de Vezins
BEGIN:VTIMEZONE
TZID:Europe/Paris
BEGIN:DAYLIGHT
TZOFFSETFROM:+0100
TZOFFSETTO:+0200
TZNAME:CEST
DTSTART:20250330T010000
END:DAYLIGHT
BEGIN:STANDARD
TZOFFSETFROM:+0200
TZOFFSETTO:+0100
TZNAME:CET
DTSTART:20251026T010000
END:STANDARD
END:VTIMEZONE
BEGIN:VEVENT
DTSTART;VALUE=DATE:20250614
DTEND;VALUE=DATE:20250615
DTSTAMP:20260421T131050
CREATED:20250604T073309Z
LAST-MODIFIED:20250604T073309Z
UID:142187-1749859200-1749945599@www.mairie-de-vezins.com
SUMMARY:Kermesse école St Joseph
DESCRIPTION:
URL:https://www.mairie-de-vezins.com/evenement/kermesse-ecole-st-joseph/
LOCATION:Maison Commune de Loisirs de Vezins (MCL)\, 14 rue du Parc\, Vezins\, Maine-et-Loire\, 49340\, France
CATEGORIES:Événements des écoles
ATTACH;FMTTYPE=image/png:https://www.mairie-de-vezins.com/wp-content/uploads/2025/06/Design-sans-titre-2025-06-03T151158.680-1-e1749022369193.png
END:VEVENT
END:VCALENDAR