BEGIN:VCALENDAR
VERSION:2.0
PRODID:-//Commune de Vezins - ECPv4.9.10//NONSGML v1.0//EN
CALSCALE:GREGORIAN
METHOD:PUBLISH
X-WR-CALNAME:Commune de Vezins
X-ORIGINAL-URL:https://www.mairie-de-vezins.com
X-WR-CALDESC:Évènements pour Commune de Vezins
BEGIN:VTIMEZONE
TZID:Europe/Paris
BEGIN:DAYLIGHT
TZOFFSETFROM:+0100
TZOFFSETTO:+0200
TZNAME:CEST
DTSTART:20250330T010000
END:DAYLIGHT
BEGIN:STANDARD
TZOFFSETFROM:+0200
TZOFFSETTO:+0100
TZNAME:CET
DTSTART:20251026T010000
END:STANDARD
END:VTIMEZONE
BEGIN:VEVENT
DTSTART;TZID=Europe/Paris:20251115T203000
DTEND;TZID=Europe/Paris:20251115T230000
DTSTAMP:20260419T072739
CREATED:20250923T074908Z
LAST-MODIFIED:20250923T074908Z
UID:142461-1763238600-1763247600@www.mairie-de-vezins.com
SUMMARY:Les Accroscènes - Représentations "Pour le meilleur et pour le pire"
DESCRIPTION:
URL:https://www.mairie-de-vezins.com/evenement/les-accroscenes-representations-pour-le-meilleur-et-pour-le-pire/2025-11-15/
LOCATION:Théâtre du Puy Saint Bonnet\, 11 rue Victor Ménard\, Le Puy Saint Bonnet\, Maine-et-Loire\, 49300\, France
CATEGORIES:Événements associatifs
ATTACH;FMTTYPE=image/png:https://www.mairie-de-vezins.com/wp-content/uploads/2025/09/Les-accroscènes-représentations-du-24-octobre-au-15-novembre-2025-e1758613334745.png
ORGANIZER;CN="Troupe%20th%C3%A9%C3%A2trale%20-%20Les%20Accrosc%C3%A8nes":MAILTO:contact@lesaccroscenes-vezins.com
END:VEVENT
END:VCALENDAR