BEGIN:VCALENDAR
VERSION:2.0
PRODID:-//Commune de Vezins - ECPv4.9.10//NONSGML v1.0//EN
CALSCALE:GREGORIAN
METHOD:PUBLISH
X-WR-CALNAME:Commune de Vezins
X-ORIGINAL-URL:https://www.mairie-de-vezins.com
X-WR-CALDESC:Évènements pour Commune de Vezins
BEGIN:VTIMEZONE
TZID:Europe/Paris
BEGIN:DAYLIGHT
TZOFFSETFROM:+0100
TZOFFSETTO:+0200
TZNAME:CEST
DTSTART:20190331T010000
END:DAYLIGHT
BEGIN:STANDARD
TZOFFSETFROM:+0200
TZOFFSETTO:+0100
TZNAME:CET
DTSTART:20191027T010000
END:STANDARD
END:VTIMEZONE
BEGIN:VEVENT
DTSTART;TZID=Europe/Paris:20190613T190000
DTEND;TZID=Europe/Paris:20190613T203000
DTSTAMP:20260421T132101
CREATED:20190528T144404Z
LAST-MODIFIED:20190617T142428Z
UID:24224-1560452400-1560457800@www.mairie-de-vezins.com
SUMMARY:Municipalité - Présentation du Portail Famille
DESCRIPTION:Réunion d’information publique\, pour la mise en place du Portail Famille le jeudi 13 juin 2019 à la M.C.L. de Vezins – 14 rue du Parc. \nA partir de la rentrée de septembre\, toutes les familles qui utilisent les services cantine\, accueil de loisirs périscolaires\, et accueil de loisirs extrascolaires devront passer obligatoirement par le portail famille. \nIl permettra notamment à partir d’un ordinateur\, d’un smartphone ou d’une tablette : \n– L’inscription en ligne ou la désinscription aux différents services. \n– La consultation et le règlement des factures en ligne.\n– De s’informer des activités proposées en accueil de loisirs extrascolaires et périscolaires.\n– La consultation des menus pour les repas des enfants. \nCet outil\, intuitif et dans l’air du temps\, facilitera la gestion communale mais surtout la gestion des parents. \nC’est pour cela\, qu’il est indispensable que les familles soient présentes pour ce temps de présentation et d’échanges. \nA la rentrée de septembre\, plus aucune inscription ou désinscription aux différents services\, ne sera prise en compte à l’accueil de la mairie\, par téléphone ou courriel comme c’est actuellement le cas. \nRendez-vous le jeudi 13 juin 2019 à partir de 19 h 00 à la M.C.L. de Vezins. \n
URL:https://www.mairie-de-vezins.com/evenement/presentation-du-portail-famille/
LOCATION:Maison Commune de Loisirs de Vezins (MCL)\, 14 rue du Parc\, Vezins\, Maine-et-Loire\, 49340\, France
CATEGORIES:Événements municipaux
ATTACH;FMTTYPE=image/jpeg:https://www.mairie-de-vezins.com/wp-content/uploads/2019/05/Présentation-portail-famille-Jeudi-13-juin-M.C.L.-1-e1559572132847.jpg
ORGANIZER;CN="Mairie%20de%20Vezins":MAILTO:mairie@mairie-de-vezins.com
END:VEVENT
END:VCALENDAR