BEGIN:VCALENDAR
VERSION:2.0
PRODID:-//Commune de Vezins - ECPv4.9.10//NONSGML v1.0//EN
CALSCALE:GREGORIAN
METHOD:PUBLISH
X-WR-CALNAME:Commune de Vezins
X-ORIGINAL-URL:https://www.mairie-de-vezins.com
X-WR-CALDESC:Évènements pour Commune de Vezins
BEGIN:VTIMEZONE
TZID:Europe/Paris
BEGIN:DAYLIGHT
TZOFFSETFROM:+0100
TZOFFSETTO:+0200
TZNAME:CEST
DTSTART:20210328T010000
END:DAYLIGHT
BEGIN:STANDARD
TZOFFSETFROM:+0200
TZOFFSETTO:+0100
TZNAME:CET
DTSTART:20211031T010000
END:STANDARD
END:VTIMEZONE
BEGIN:VEVENT
DTSTART;TZID=Europe/Paris:20210218T190000
DTEND;TZID=Europe/Paris:20210218T190000
DTSTAMP:20260421T153206
CREATED:20210121T093649Z
LAST-MODIFIED:20210121T093713Z
UID:130214-1613674800-1613674800@www.mairie-de-vezins.com
SUMMARY:Région Pays de la Loire - Comité de ligne «Anjou – Choletais»
DESCRIPTION:La Région Pays de la Loire organise prochainement une réunion du Comité de ligne «Anjou – Choletais» concernant les lignes ferroviaires et routières suivantes : \n  \n– Ligne 4 «  Nantes – Angers » \n– Ligne 19 « Angers – Saumur » \n– Ligne 6 « Nantes – Cholet » \n– Ligne 20 « Angers – Cholet » \n– Ligne 21 (section) « Angers – Sablé sur Sarthe » \n– Ligne 7 « Nantes – Cholet – Poitiers » \n– Ligne 18 « Angers – Châteaubriant » \n– Et toutes les lignes routières régulières interurbaines du réseau Aléop en Maine-et-Loire \n  \nLa réunion aura lieu en streaming (live sur Youtube) le jeudi 18 février 2021 à 19h.  \nL’accès à la réunion est libre et ouverte à tous. \nIl est cependant possible d’annoncer sa participation en cliquant sur le lien suivant : INSCRIPTIONS \n  \nLes personnes intéressées pourront télécharger\, quelques jours avant le 18/02\, le dossier de réunion sur le site internet d’ALEOP à l’adresse suivante : www.aleop.paysdelaloire.fr \n  \nPour toute information complémentaire sur les Comités de lignes\, les voyageurs du réseau Aléop peuvent s’adresser à : \n  \nRégion Pays de la Loire \nDirection des Transports et des Mobilités \nCourriel comitedelignes@paysdelaloire.fr \n
URL:https://www.mairie-de-vezins.com/evenement/region-pays-de-la-loire-comite-de-ligne-anjou-choletais/
CATEGORIES:Divers
ATTACH;FMTTYPE=image/png:https://www.mairie-de-vezins.com/wp-content/uploads/2021/01/Aléop-Usagers-vous-avez-la-parole-1.png
END:VEVENT
END:VCALENDAR