BEGIN:VCALENDAR
VERSION:2.0
PRODID:-//Commune de Vezins - ECPv4.9.10//NONSGML v1.0//EN
CALSCALE:GREGORIAN
METHOD:PUBLISH
X-WR-CALNAME:Commune de Vezins
X-ORIGINAL-URL:https://www.mairie-de-vezins.com
X-WR-CALDESC:Évènements pour Commune de Vezins
BEGIN:VTIMEZONE
TZID:Europe/Paris
BEGIN:DAYLIGHT
TZOFFSETFROM:+0100
TZOFFSETTO:+0200
TZNAME:CEST
DTSTART:20220327T010000
END:DAYLIGHT
BEGIN:STANDARD
TZOFFSETFROM:+0200
TZOFFSETTO:+0100
TZNAME:CET
DTSTART:20221030T010000
END:STANDARD
END:VTIMEZONE
BEGIN:VEVENT
DTSTART;TZID=Europe/Paris:20221118T141500
DTEND;TZID=Europe/Paris:20221118T161500
DTSTAMP:20260421T131118
CREATED:20221028T093251Z
LAST-MODIFIED:20221028T093325Z
UID:136727-1668780900-1668788100@www.mairie-de-vezins.com
SUMMARY:Spectacle "Tous Aidants"
DESCRIPTION:CLIC IGEAC « Tous Aidants »\n  \nDans le cadre de la journée nationale des aidants\, le CLIC IGEAC en partenariat avec les acteurs du territoire\, proposent le spectacle « TOUS AIDANTS ». \n  \nLe Vendredi 18 Novembre à la salle commune de Loisirs à Vezins \nA partir de 14h15 \n  \nLe CLIC IGEAC peut aider à organiser la prise en charge du proche (à domicile ou en accueil de jour) le temps de l’absence de son aidant. \n  \nGratuit et sans inscription\, l’après-midi se fera dans le respect des règles sanitaires en vigueur.  \nLes partenaires seront présents à la suite du spectacle afin de répondre à des questions individuelles. \n  \nPour toutes informations complémentaires\, n’hésitez pas prendre contact avec le CLIC IGEAC. \n
URL:https://www.mairie-de-vezins.com/evenement/spectacle-tous-aidants/
LOCATION:Maison Commune de Loisirs de Vezins (MCL)\, 14 rue du Parc\, Vezins\, Maine-et-Loire\, 49340\, France
CATEGORIES:Événements Cholet Agglomération
ATTACH;FMTTYPE=image/png:https://www.mairie-de-vezins.com/wp-content/uploads/2022/10/Journée-Nationale-des-Aidants-le-18-novembre-2022-à-Vezins.png
ORGANIZER;CN="CLIC%20IGEAC":MAILTO:clic.choletais@gmail.com
END:VEVENT
END:VCALENDAR