BEGIN:VCALENDAR
VERSION:2.0
PRODID:-//Commune de Vezins - ECPv4.9.10//NONSGML v1.0//EN
CALSCALE:GREGORIAN
METHOD:PUBLISH
X-WR-CALNAME:Commune de Vezins
X-ORIGINAL-URL:https://www.mairie-de-vezins.com
X-WR-CALDESC:Évènements pour Commune de Vezins
BEGIN:VTIMEZONE
TZID:Europe/Paris
BEGIN:DAYLIGHT
TZOFFSETFROM:+0100
TZOFFSETTO:+0200
TZNAME:CEST
DTSTART:20240331T010000
END:DAYLIGHT
BEGIN:STANDARD
TZOFFSETFROM:+0200
TZOFFSETTO:+0100
TZNAME:CET
DTSTART:20241027T010000
END:STANDARD
END:VTIMEZONE
BEGIN:VEVENT
DTSTART;TZID=Europe/Paris:20240406T150000
DTEND;TZID=Europe/Paris:20240406T183000
DTSTAMP:20260421T145400
CREATED:20240402T085720Z
LAST-MODIFIED:20240402T085720Z
UID:140826-1712415600-1712428200@www.mairie-de-vezins.com
SUMMARY:Tennis Evre Lys - Crêpes raquettes
DESCRIPTION:
URL:https://www.mairie-de-vezins.com/evenement/tennis-evre-lys-crepes-raquettes/
LOCATION:Salle Omnisports\, 16 rue du Parc\, Vezins\, Maine et Loire\, 49340\, France
CATEGORIES:Événements associatifs
ATTACH;FMTTYPE=image/png:https://www.mairie-de-vezins.com/wp-content/uploads/2024/04/Crêpes-raquettes-2024-1-e1712048220940.png
ORGANIZER;CN="Tennis%20Evre%20Lys":MAILTO:tennisevrelys@gmail.com
END:VEVENT
END:VCALENDAR