BEGIN:VCALENDAR
VERSION:2.0
PRODID:-//Commune de Vezins - ECPv4.9.10//NONSGML v1.0//EN
CALSCALE:GREGORIAN
METHOD:PUBLISH
X-WR-CALNAME:Commune de Vezins
X-ORIGINAL-URL:https://www.mairie-de-vezins.com
X-WR-CALDESC:Évènements pour Commune de Vezins
BEGIN:VTIMEZONE
TZID:Europe/Paris
BEGIN:DAYLIGHT
TZOFFSETFROM:+0100
TZOFFSETTO:+0200
TZNAME:CEST
DTSTART:20210328T010000
END:DAYLIGHT
BEGIN:STANDARD
TZOFFSETFROM:+0200
TZOFFSETTO:+0100
TZNAME:CET
DTSTART:20211031T010000
END:STANDARD
END:VTIMEZONE
BEGIN:VEVENT
DTSTART;TZID=Europe/Paris:20210319T090000
DTEND;TZID=Europe/Paris:20210319T120000
DTSTAMP:20260421T132340
CREATED:20210223T110235Z
LAST-MODIFIED:20210223T110326Z
UID:130601-1616144400-1616155200@www.mairie-de-vezins.com
SUMMARY:Vezins - Broyage des déchets végétaux pour les particuliers
DESCRIPTION:\n[Vezins – Broyage des déchets végétaux pour les particuliers] \n\n \n \n\nL’Agglomération du Choletais propose à ses habitants un service gratuit de broyage de déchets verts.\n\n \n \n\nObjectifs : limiter les apports en déchèterie et valoriser ce type de déchets dans les jardins.\n\n \n \n\nLe broyage des déchets issus de la taille des haies\, des arbustes et des arbres\, produit un excellent amendement pour la terre\, notamment en paillage pour les massifs et espaces verts\, mais aussi en matière sèche pour les composteurs.\n\n \n \n\nPour ce nouveau service\, la collectivité met à disposition deux broyeurs\, dont le fonctionnement sera assuré par les entreprises d’insertion Fil d’Ariane et l’Eclaircie.\n\n \n \n\nUne prestation est programmée sur Vezins le 19 mars 2021 de 9 h à 12 h sur le parking du restaurant scolaire\, rue du Parc.\n\n \n \n\nService gratuit\, inscription OBLIGATOIRE sur Cholet.fr : http://bit.ly/cholet-inscription-broyage\n\n \n \n\nInfos :  http://bit.ly/cholet-broyage-branchages\n\n
URL:https://www.mairie-de-vezins.com/evenement/vezins-broyage-des-dechets-vegetaux-pour-les-particuliers/
LOCATION:Maison Commune de Loisirs de Vezins (MCL)\, 14 rue du Parc\, Vezins\, Maine-et-Loire\, 49340\, France
CATEGORIES:Événements Cholet Agglomération
ATTACH;FMTTYPE=image/png:https://www.mairie-de-vezins.com/wp-content/uploads/2021/02/AdC-Broyage-déchets-le-vendredi-19-mars-2021-à-Vezins.png
END:VEVENT
END:VCALENDAR