BEGIN:VCALENDAR
VERSION:2.0
PRODID:-//Commune de Vezins - ECPv4.9.10//NONSGML v1.0//EN
CALSCALE:GREGORIAN
METHOD:PUBLISH
X-WR-CALNAME:Commune de Vezins
X-ORIGINAL-URL:https://www.mairie-de-vezins.com
X-WR-CALDESC:Évènements pour Commune de Vezins
BEGIN:VTIMEZONE
TZID:Europe/Paris
BEGIN:DAYLIGHT
TZOFFSETFROM:+0100
TZOFFSETTO:+0200
TZNAME:CEST
DTSTART:20250330T010000
END:DAYLIGHT
BEGIN:STANDARD
TZOFFSETFROM:+0200
TZOFFSETTO:+0100
TZNAME:CET
DTSTART:20251026T010000
END:STANDARD
END:VTIMEZONE
BEGIN:VEVENT
DTSTART;VALUE=DATE:20250607
DTEND;VALUE=DATE:20250609
DTSTAMP:20260421T143919
CREATED:20250516T145442Z
LAST-MODIFIED:20250516T145442Z
UID:142131-1749254400-1749427199@www.mairie-de-vezins.com
SUMMARY:Week-end du Jumelage
DESCRIPTION:
URL:https://www.mairie-de-vezins.com/evenement/week-end-du-jumelage-2/
CATEGORIES:Événements associatifs
ATTACH;FMTTYPE=image/png:https://www.mairie-de-vezins.com/wp-content/uploads/2025/05/Soirée-du-jumelage-7-et-8-juin-2025.png
ORGANIZER;CN="Jumelage%20Franco%2FBelge":MAILTO:jumelage.vezins@gmail.com
END:VEVENT
END:VCALENDAR